BEGIN:VCALENDAR
VERSION:2.0
PRODID:-//The Red Knights Belgium II - ECPv6.15.20//NONSGML v1.0//EN
CALSCALE:GREGORIAN
METHOD:PUBLISH
X-WR-CALNAME:The Red Knights Belgium II
X-ORIGINAL-URL:https://redknightsbelgiumii.be
X-WR-CALDESC:Evenementen voor The Red Knights Belgium II
REFRESH-INTERVAL;VALUE=DURATION:PT1H
X-Robots-Tag:noindex
X-PUBLISHED-TTL:PT1H
BEGIN:VTIMEZONE
TZID:Europe/Helsinki
BEGIN:DAYLIGHT
TZOFFSETFROM:+0200
TZOFFSETTO:+0300
TZNAME:EEST
DTSTART:20200329T010000
END:DAYLIGHT
BEGIN:STANDARD
TZOFFSETFROM:+0300
TZOFFSETTO:+0200
TZNAME:EET
DTSTART:20201025T010000
END:STANDARD
BEGIN:DAYLIGHT
TZOFFSETFROM:+0200
TZOFFSETTO:+0300
TZNAME:EEST
DTSTART:20210328T010000
END:DAYLIGHT
BEGIN:STANDARD
TZOFFSETFROM:+0300
TZOFFSETTO:+0200
TZNAME:EET
DTSTART:20211031T010000
END:STANDARD
BEGIN:DAYLIGHT
TZOFFSETFROM:+0200
TZOFFSETTO:+0300
TZNAME:EEST
DTSTART:20220327T010000
END:DAYLIGHT
BEGIN:STANDARD
TZOFFSETFROM:+0300
TZOFFSETTO:+0200
TZNAME:EET
DTSTART:20221030T010000
END:STANDARD
END:VTIMEZONE
BEGIN:VEVENT
DTSTART;VALUE=DATE:20210625
DTEND;VALUE=DATE:20210628
DTSTAMP:20260423T152515
CREATED:20210202T082642Z
LAST-MODIFIED:20210202T082642Z
UID:1237-1624579200-1624838399@redknightsbelgiumii.be
SUMMARY:(Back to the) 5 year anniversary RK Belgium 7
DESCRIPTION:inschrijven is verplicht en dit voor 30 april 2021. Graag een mailtje sturen naar belgium7@redknightsmc.com
URL:https://redknightsbelgiumii.be/event/back-to-the-5-year-anniversary-rk-belgium-7/
LOCATION:Durbuy\, Durbuy\, België
CATEGORIES:Evenementen andere clubs
ATTACH;FMTTYPE=image/jpeg:https://redknightsbelgiumii.be/wp-content/uploads/2021/02/145099050_4296128170404453_7815957915147683768_n.jpg
ORGANIZER;CN="MCRK Belgium 7":MAILTO:Belgium7@redknightsmc.com
END:VEVENT
BEGIN:VEVENT
DTSTART;VALUE=DATE:20210626
DTEND;VALUE=DATE:20210628
DTSTAMP:20260423T152515
CREATED:20210202T083009Z
LAST-MODIFIED:20210202T083009Z
UID:1241-1624665600-1624838399@redknightsbelgiumii.be
SUMMARY:MTC "2-route" treffen 2021
DESCRIPTION:17de Toerroet treffen. \nbepijlde rit van 180km \n 
URL:https://redknightsbelgiumii.be/event/mtc-2-route-treffen-2021/
LOCATION:Torhout\, Alberic Deleustraat 15\, Torhout\, West- Vlaanderen\, 8820\, België
CATEGORIES:Evenementen andere clubs,Mototreffen
ATTACH;FMTTYPE=image/jpeg:https://redknightsbelgiumii.be/wp-content/uploads/2021/02/143600420_10224916366121494_3449807603717087991_o.jpg
ORGANIZER;CN="MTC 2-route":MAILTO:voorzitter@2route.be
END:VEVENT
END:VCALENDAR